BEGIN:VCALENDAR
VERSION:2.0
PRODID:-//wp-events-plugin.com//7.2.3.1//EN
TZID:Europe/Berlin
X-WR-TIMEZONE:Europe/Berlin
BEGIN:VEVENT
UID:86@gruenden-in-suedniedersachsen.de
DTSTART;TZID=Europe/Berlin:20261203T090000
DTEND;TZID=Europe/Berlin:20261203T120000
DTSTAMP:20260422T135145Z
URL:https://gruenden-in-suedniedersachsen.de/events/vorankuendigung-sterns
 tunden-fuer-gruenderinnen-gruendungsmesse-fuer-frauen/
SUMMARY:in Planung: Sternstunden für Gründerinnen - Gründungsmesse für 
 Frauen
DESCRIPTION:Aktuell wird die 3. Gründerinnenmesse geplant und ist für die
 ses Datum angefragt.\n\nNeuigkeiten dazu werden an dieser Stelle veröffen
 tlicht.
CATEGORIES:Infoveranstaltung,Netzwerk
LOCATION:Historische Sternwarte\, Geismar Landstraße 11\, Göttingen\, 370
 73\, Deutschland
X-APPLE-STRUCTURED-LOCATION;VALUE=URI;X-ADDRESS=Geismar Landstraße 11\, G
 öttingen\, 37073\, Deutschland;X-APPLE-RADIUS=100;X-TITLE=Historische Ste
 rnwarte:geo:0,0
END:VEVENT
BEGIN:VTIMEZONE
TZID:Europe/Berlin
X-LIC-LOCATION:Europe/Berlin
BEGIN:STANDARD
DTSTART:20261025T020000
TZOFFSETFROM:+0200
TZOFFSETTO:+0100
TZNAME:CET
END:STANDARD
END:VTIMEZONE
END:VCALENDAR