BEGIN:VCALENDAR
VERSION:2.0
PRODID:-//wp-events-plugin.com//7.2.3.1//EN
TZID:Europe/Berlin
X-WR-TIMEZONE:Europe/Berlin
BEGIN:VEVENT
UID:85@gruenden-in-suedniedersachsen.de
DTSTART;TZID=Europe/Berlin;VALUE=DATE:20261209
DTEND;TZID=Europe/Berlin;VALUE=DATE:20261210
DTSTAMP:20260422T134703Z
URL:https://gruenden-in-suedniedersachsen.de/events/business-booster-day-i
 n-goettingen-11/
SUMMARY:Business Booster Day in Göttingen
DESCRIPTION:Der „Business Booster Day“ ist ein Erstberatungsangebot zu 
 Gründungsfragen und Finanzierungswegen. Egal\, ob Sie dabei gerade am Anf
 ang Ihrer Unternehmerreise stehen oder bereits erfolgreich am Markt tätig
  sind\, der „Business Booster Day“ ist darauf ausgerichtet\, im Rahmen
  einer kostenlosen 45-minütigen Erstberatung Ihre individuellen Fragen zu
  beantworten und wertvolle Einblicke und praktische Tipps zu liefern. Bera
 ten werden Sie dabei von Experten der IHK Hannover-Geschäftsstelle Götti
 ngen und der Investitions- und Förderbank Niedersachsen (NBank).\n\nTermi
 n bitte telefonisch vereinbaren bei Catalina Dirks\,Telefonnummer 0551/707
 0-124 oder E-Mail goettingen@hannover.ihk.de
ATTACH;FMTTYPE=image/jpeg:https://gruenden-in-suedniedersachsen.de/wp-cont
 ent/uploads/2026/04/Business_Booster_Day-Termine_Zweites_Halbjahr_2026.jpg
CATEGORIES:Beratung
LOCATION:IHK Hannover\, Geschäftsstelle Göttingen\, Bürgerstraße 21\, G
 öttingen\, 37073\, Deutschland
X-APPLE-STRUCTURED-LOCATION;VALUE=URI;X-ADDRESS=Bürgerstraße 21\, Göttin
 gen\, 37073\, Deutschland;X-APPLE-RADIUS=100;X-TITLE=IHK Hannover\, Gesch
 äftsstelle Göttingen:geo:0,0
END:VEVENT
BEGIN:VTIMEZONE
TZID:Europe/Berlin
X-LIC-LOCATION:Europe/Berlin
BEGIN:STANDARD
DTSTART:20261025T020000
TZOFFSETFROM:+0200
TZOFFSETTO:+0100
TZNAME:CET
END:STANDARD
END:VTIMEZONE
END:VCALENDAR